BEGIN:VCALENDAR
VERSION:2.0
PRODID:-//TASUKI(タスキ) - ECPv6.3.0//NONSGML v1.0//EN
CALSCALE:GREGORIAN
METHOD:PUBLISH
X-WR-CALNAME:TASUKI(タスキ)
X-ORIGINAL-URL:https://tasuki-inc.com
X-WR-CALDESC:TASUKI(タスキ) のイベント
REFRESH-INTERVAL;VALUE=DURATION:PT1H
X-Robots-Tag:noindex
X-PUBLISHED-TTL:PT1H
BEGIN:VTIMEZONE
TZID:Asia/Tokyo
BEGIN:STANDARD
TZOFFSETFROM:+0900
TZOFFSETTO:+0900
TZNAME:JST
DTSTART:20260101T000000
END:STANDARD
END:VTIMEZONE
BEGIN:VEVENT
DTSTART;TZID=Asia/Tokyo:20260220T183000
DTEND;TZID=Asia/Tokyo:20260516T200000
DTSTAMP:20260424T162540
CREATED:20251127T004620Z
LAST-MODIFIED:20251127T004620Z
UID:37096-1771612200-1778961600@tasuki-inc.com
SUMMARY:微生物と鉄鉱石の深～いつながり@蒲郡市生命の海科学館
DESCRIPTION:大人になっても心惹かれる、不思議や謎があります。 大人だからこそ味わえる、学びの楽しみがあります。 \n「一般科学講座Eureka!」では、身近な自然や生活の中にある不思議について、 実験や観察を楽しみながら紐解きます。 \n今年度はナイトミュージアムとコラボレーション! ちょっぴり背伸びした「理科」を楽しんだあとは、夜の科学館でじっくりと展示を見てみませんか? \n第5回（2/20開催）　微生物と鉄鉱石の深〜いつながり\n第5回講師：小田 泰史 さん（蒲郡市立三谷中学校 教諭）\n展示室に「シアノバクテリア」（藍藻）の活動によってつくられた「ストロマトライト」という「岩石」があります。顕微鏡で植物細胞の観察をしながら、ストロマトライトと酸素のつながりを考えてみましょう。 \n事前予約制です。下記予約フォームからご予約をお願いします。\n予約フォーム（2月19日17時受付終了）\n \n▽詳しくはこちら・イベントチラシ \n\n			\n				\n			\n		\n\nクリックで拡大 \n  \n  \n\n\n\n\n\n日時\n2026年2月20日（金）\n18:30〜20:00\n（2月19日17:00受付終了）\n\n\n\n場所\n\n蒲郡市生命の海科学館 1F 実験工作室・3F 展示室\n\n\n\n講師\n\n小田泰史 さん （蒲郡市立三谷中学校 教諭）\n\n\n\n対象\n\n高校生以上推奨(内容は大人向け/中学生以下は保護者同伴)\n\n\n\n参加費\n\n300円\n※市民利用証、年間観覧券、ほの国こどもパスポートを持っている方は無料です。\n\n\n\n予約\n事前予約制です。下記予約フォームからご予約をお願いします。\n予約フォーム（2月19日17時受付終了）\n\n\n\n\n詳細\n蒲郡市役所HP\n※本ページは2025.11.26時点の情報になります。\n\n\n\n\n\nmap
URL:https://tasuki-inc.com/event/37096/
CATEGORIES:蒲郡市
ATTACH;FMTTYPE=image/jpeg:https://tasuki-inc.com/wp-content/uploads/2025/11/yorunokagakukan.jpg
END:VEVENT
BEGIN:VEVENT
DTSTART;TZID=Asia/Tokyo:20260221T080000
DTEND;TZID=Asia/Tokyo:20260621T170000
DTSTAMP:20260424T162540
CREATED:20260227T082700Z
LAST-MODIFIED:20260302T003359Z
UID:37898-1771660800-1782061200@tasuki-inc.com
SUMMARY:サンリオキャラクターフェス in ラグーナテンボス
DESCRIPTION:人気のサンリオキャラクターがラグーナに！ \n写真撮影スポット・ゲーム・デジタル体験・グリーティング・オリジナルグッズ販売・コラボフードなど、子どもから大人まで楽しめる体験型フェスです。 \n  \n\n\n\n\n\n開催期間\n2026年2月21日(土)〜6月21日(日)\n※期間中、休園日やイベント開催のない日程があります\n\n\n\n場所\n\nラグーナテンボス\n\n\n\n料金\n\n500円/人\n※3歳未満無料（小学生未満は保護者同伴）\n※別途ラグナシア入園券が必要\n\n\n\n詳細\nイベント情報サイト\n※本ページは2026.2.25時点の情報になります。\n\n\nお問い合わせ\nラグーナテンボス インフォメーションセンター\nTEL：0570-097117（9:00～16:00）\n\n\n\n\n\n\nmap
URL:https://tasuki-inc.com/event/37898/
CATEGORIES:蒲郡市
ATTACH;FMTTYPE=image/jpeg:https://tasuki-inc.com/wp-content/uploads/2026/02/sanrio_gamagori.jpg
END:VEVENT
BEGIN:VEVENT
DTSTART;TZID=Asia/Tokyo:20260314T110000
DTEND;TZID=Asia/Tokyo:20260628T170000
DTSTAMP:20260424T162540
CREATED:20260421T021226Z
LAST-MODIFIED:20260421T021226Z
UID:38144-1773486000-1782666000@tasuki-inc.com
SUMMARY:ミラクルドリームサーカス 愛知蒲郡公演
DESCRIPTION:サーカスではおなじみの「空中ブランコ」、「2輪大車輪」、そして鋼鉄球内をバイク3台で走り回るスリル満点の「グローブ・オブ・デス」。臨場感あふれる演目と、お子様に大人気の「ピエロのコントショー」など、多彩なプログラムで皆様に夢と感動をお届けします。 \n \n▽詳しくはこちら・イベントチラシ \n\n			\n				\n			\n			\n				\n			\n		\n\nクリックで拡大 \n  \n\n\n\n\n\n主催\nメーテレ／愛知蒲郡公演実行委員会／ドリームサーカス\n\n\n\n開催期間\n2026年3月14日(土)〜6月28日(日)\n※休演日：木曜\n\n\n\n場所\n\n蒲郡市宝町2 大テント特設会場\n※蒲郡駅から徒歩3分\n\n\n\n詳細\n公式サイト\n※本ページは2026.4.19時点の情報になります。\n\n\nお問い合わせ\n公式サイトのWEBフォームよりお問い合わせください\n\n\n\n\n\n\nmap
URL:https://tasuki-inc.com/event/38144/
CATEGORIES:蒲郡市
ATTACH;FMTTYPE=image/jpeg:https://tasuki-inc.com/wp-content/uploads/2026/04/f4cc2ef4c21c197ea896d5f7cdfcdaa6.jpg
END:VEVENT
BEGIN:VEVENT
DTSTART;TZID=Asia/Tokyo:20260323T080000
DTEND;TZID=Asia/Tokyo:20260510T210000
DTSTAMP:20260424T162540
CREATED:20260306T022548Z
LAST-MODIFIED:20260306T022548Z
UID:37941-1774252800-1778446800@tasuki-inc.com
SUMMARY:令和8年春まつり（さくら）、吉田城春まつり
DESCRIPTION:春まつり（さくら）を開催します\n桜の開花状況に合わせて豊橋公園で夜間照明を点灯します。（日没～21時）\n※雨天等気象状況によりイベント規模の縮小や開催時間の短縮等の可能性がありますのでご承知おきください。\nご来場の際は、公共交通機関をご利用ください。 \nとき\n令和8年3月23日(月)から4月5日(日)まで\n※桜の開花状況により期間を変更する場合あり \nところ\n豊橋公園 \n第6回吉田城春まつり\n吉田城春まつりを行います。\nお花見とあわせて、春のひとときをお楽しみください\n※ご来場の際は公共交通機関をご利用ください。\n※雨天等気象状況によってイベント規模の縮小や開催時間の短縮、一部イベントの中止等の可能性もありますので、ご承知おきください。 \nとき\n令和8年3月24日（火）～5月10日（日） \nところ\n吉田城鉄櫓及び本丸広場を含む豊橋公園内 \n吉田城春まつりのイベント(1)吉田城内が桜でいっぱい\n吉田城鉄櫓内いっぱいにちりめん細工を飾り、春色に彩ります！ \nとき\n令和8年3月24日（火）～5月10日（日）\n※月曜日を除く　※開催日は変更する場合があります \nところ\n吉田城鉄櫓内 \n吉田城春まつりのイベント(2)吉田城サクラマルシェ\n最大16店舗のキッチンカーが同日に出店します！\n吉田城や桜を見ながら「食」を楽しみましょう！！  \nとき\n令和8年3月28日（土）、29日（日）\n各日　10時～16時 \nところ\n豊橋公園内\n※雨天などにより一部のイベントが中止等になる場合があります \n吉田城見どころガイド\n時間：\n第1回　10時～\n第2回　11時～\n第3回　13時～\n第4回　14時～\n※小雨決行、荒天中止 \n内容：\n豊橋観光ボランティアガイドが吉田城の見どころをガイドします！ \n春のイースターイベントを開催します！\n今年も豊橋公園にて「春のイースターイベント」を開催します。\nイースターのシンボルである「卵」を使ったフォトスポットの設置やイベントも開催します！ \n日時\n令和8年3月23日（月）～4月5日（日）\n※桜の開花状況により期間を変更する場合あり \n会場\n豊橋公園内 \n豊橋公園にイースターエッグのオブジェが登場！\nイベント期間中は、豊橋公園内に卵型のオブジェが設置されます。\n桜を背景に、かわいい卵と一緒に映える写真を撮ることができます。  \n \n▽詳しくはこちら・イベントチラシ\n\n			\n				\n			\n		\n \nクリックで拡大\n \n  \n\n\n\n\n\n日時\n【春まつり(さくら)】\n令和8年3月23日(月)から4月5日(日)まで\n※桜の開花状況により期間を変更する場合あり \n【吉田城春まつり】\n令和8年3月24日（火）～5月10日（日）\n\n\n\n場所\n\n豊橋公園内\n\n\n\n詳細\n豊橋市HP\n※本ページは2026.3.2時点の情報になります。\n\n\nお問い合わせ\n春まつり実行委員会 （豊橋市役所観光プロモーション課内）\nTEL：0532-51-2430\n\n\n\n\n\n\nmap
URL:https://tasuki-inc.com/event/37941/
CATEGORIES:豊橋市
ATTACH;FMTTYPE=image/jpeg:https://tasuki-inc.com/wp-content/uploads/2026/03/yoshidajyou_harumatsuri.jpg
END:VEVENT
BEGIN:VEVENT
DTSTART;TZID=Asia/Tokyo:20260325T080000
DTEND;TZID=Asia/Tokyo:20260430T170000
DTSTAMP:20260424T162540
CREATED:20260327T084246Z
LAST-MODIFIED:20260327T084246Z
UID:38145-1774425600-1777568400@tasuki-inc.com
SUMMARY:蒲郡市×映画『君が最後に遺した歌』タイアップキャンペーン
DESCRIPTION:蒲郡でロケが行われた映画『君が最後に遺した歌』の公開を記念して、タイアップキャンペーンを実施します。 \n蒲郡市を巡るデジタルスタンプラリー\n映画公開を記念して、蒲郡市のロケ地や観光地を巡るデジタルスタンプラリーを実施します。\n市内10カ所のチェックポイントを巡ってスタンプを集めると、ステキなプレゼントが当たる抽選に応募できます！ \nデジタルスタンプラリー詳細はこちらから \nパネル・衣装展\n劇中登場衣装の展示や、映画のシーン写真のパネル展示を実施します。 \n開催場所・期間\n【パネル】　ナビテラス 蒲郡市観光交流センター\n令和8年3月14日（土）〜令和8年4月2日（木） \n【パネル】　温泉喫茶 si no no me\n2026年3月14日（土）〜令和8年3月31日（火） \n【パネル】　渚の交番UMICAN\n2026年4月1日（水）〜4月30日（木） \n【衣装・パネル】　蒲郡市立図書館\n2026年4月4日（土）〜4月19日（日） \n【衣装・パネル】　蒲郡市役所（ロビー）\n2026年4月20日（月）〜4月30日（木） \nラグーナテンボス・フェスティバルマーケット 観覧車特別ライトアップ\n2026年3月31日（火）まで、映画仕様のライトアップを実施！ \n詳細はこちらから \n  \n\n\n\n\n\n開催期間\n2026年4月30日(木)まで\n\n\n\n場所\n\n蒲郡市内各所\n\n\n\n詳細\n蒲郡市役所HP\n※本ページは2026.3.25時点の情報になります。\n\n\nお問い合わせ\n蒲郡市役所　観光まちづくり課シティセールス推進室\nTEL：0533-66-1225\n\n\n\n\n\n\nmap
URL:https://tasuki-inc.com/event/38145/
CATEGORIES:蒲郡市
ATTACH;FMTTYPE=image/jpeg:https://tasuki-inc.com/wp-content/uploads/2026/03/gamagori_movie.jpg
END:VEVENT
BEGIN:VEVENT
DTSTART;TZID=Asia/Tokyo:20260404T090000
DTEND;TZID=Asia/Tokyo:20260505T170000
DTSTAMP:20260424T162540
CREATED:20260327T084554Z
LAST-MODIFIED:20260327T084554Z
UID:38156-1775293200-1778000400@tasuki-inc.com
SUMMARY:シェルマよしご特別体験　「竹のこいのぼりづくり」
DESCRIPTION:竹を使ったこいのぼりをつくります。 \nご自分だけの素敵なこいのぼりを作ってみませんか？ \n未就学児童が体験を行う場合は、保護者の方と一緒にお願いします。 \n期間中いつでも体験できますが、事前予約も受け付けております。 \n数量限定の体験の為、なくなり次第終了させていただきます。 \n \n▽詳しくはこちら・イベントチラシ \n\n			\n				\n			\n		\n\nクリックで拡大 \n  \n\n\n\n\n\n期間\n2026年4月4日(土)〜5月5日（火・祝）\n\n\n\n場所\n\n吉胡貝塚資料館（シェルマよしご）\n\n\n\n料金\n\n600円（観覧料が別途かかります）\n\n\n参考\n渥美半島観光ビューロー\n※本ページは2026.3.25時点の情報になります。\n\n\nお問い合わせ\nシュルマよしご\nTEL：0531-22-8060\n\n\n\n\n\n\nmap
URL:https://tasuki-inc.com/event/38156/
CATEGORIES:田原市
ATTACH;FMTTYPE=image/jpeg:https://tasuki-inc.com/wp-content/uploads/2026/03/takekoinobori.jpg
END:VEVENT
BEGIN:VEVENT
DTSTART;TZID=Asia/Tokyo:20260404T090000
DTEND;TZID=Asia/Tokyo:20260614T170000
DTSTAMP:20260424T162540
CREATED:20260327T084414Z
LAST-MODIFIED:20260327T084414Z
UID:38160-1775293200-1781456400@tasuki-inc.com
SUMMARY:【鳳来寺山自然科学博物館】春の特別展「遥かなる星空」
DESCRIPTION:星と風景が織りなす星景写真、望遠鏡で捉えた惑星、星雲星団、日食、月食、彗星等、様々な天体写真を展示します。 \nミニ特別展「鉱物の食卓」\n食べ物に由来した名前を持つ鉱物たちを集めました。名は体を成すという言葉のとおり、それら鉱物には、由来となった食べ物の特徴が表れています。不思議な色や形を持つ様々な鉱物を紹介します。 \n期間\n2026年4月11日(土)〜7月20日(月・祝) \n場所\n鳳来寺山自然科学博物館2階階段踊り場展示 \n \n▽詳しくはこちら・イベントチラシ \n\n			\n				\n			\n		\n\nクリックで拡大 \n  \n\n\n\n\n\n日時\n2026年4月4日(土)〜6月14日(日)\n9:00〜17:00\n\n\n\n休館日\n火曜（祝日の場合は翌日）\n\n\n\n入館料\n一般 300 円、小中学生 100 円\n\n\n\n場所\n\n鳳来寺山自然科学博物館\n\n\n\n詳細\n新城市役所HP\n※本ページは2026.3.25時点の情報になります。\n\n\nお問い合わせ\n鳳来寺山自然科学博物館\nTEL：0536-35-1001\n\n\n\n\n\n\nmap
URL:https://tasuki-inc.com/event/38160/
CATEGORIES:新城市
ATTACH;FMTTYPE=image/jpeg:https://tasuki-inc.com/wp-content/uploads/2026/03/1c664b11d08de36f27d08fa029ab0e69.jpg
END:VEVENT
BEGIN:VEVENT
DTSTART;TZID=Asia/Tokyo:20260416T090000
DTEND;TZID=Asia/Tokyo:20260506T180000
DTSTAMP:20260424T162540
CREATED:20260420T070225Z
LAST-MODIFIED:20260420T070225Z
UID:38321-1776330000-1778090400@tasuki-inc.com
SUMMARY:蒲郡クラシックホテル つつじまつり2026
DESCRIPTION:蒲郡クラシックホテルの庭園は昔から知られるつつじの名所。 \n4月下旬から5月上旬にかけて、約3.4ヘクタールの園内に5種類約3000本のつつじが華やかに咲き誇ります！ \n※開花状況により、開催日程が変更になる場合があります。開花状況などInstagramからご確認ください。 \n \n▽詳しくはこちら・イベントチラシ \n\n			\n				\n			\n		\n\nクリックで拡大 \n  \n\n\n\n\n\n日時\n2026年4月16日(木)〜5月6日(水)\n9:00〜18:00\n\n\n\n場所\n\n蒲郡クラシックホテル敷地内\n\n\n\n料金\n\n入園料【ソフトドリンク付】\n※庭園管理料として\n大人(中学生以上)：500円\n小学生：250円\n幼児：無料\n駐車場料金：500円/台\n\n\n\n詳細\n一般社団法人 蒲郡市観光協会公式サイト\n※本ページは2026.4.19時点の情報になります。\n\n\n開花状況\nInstagram\n\n\n\n\n\n\nmap
URL:https://tasuki-inc.com/event/38321/
CATEGORIES:蒲郡市
ATTACH;FMTTYPE=image/jpeg:https://tasuki-inc.com/wp-content/uploads/2026/04/gamagori_tutuji.jpg
END:VEVENT
BEGIN:VEVENT
DTSTART;TZID=Asia/Tokyo:20260418T090000
DTEND;TZID=Asia/Tokyo:20260531T170000
DTSTAMP:20260424T162540
CREATED:20260408T085232Z
LAST-MODIFIED:20260408T085232Z
UID:38236-1776502800-1780246800@tasuki-inc.com
SUMMARY:東海道五十三対展「浮世絵のタネ」@二川宿本陣資料館
DESCRIPTION:浮世絵《 東海道五十三対（とうかいどうごじゅうさんつい）》は、幕末の歌川派を代表する3人の絵師、三代豊国・広重・国芳が分担して描いた東海道揃（そろいもの）のひとつです。しかし、本作の主題は東海道の風景ではありません。和歌・俳句や、伊勢物語・平家物語・膝栗毛など新旧の文学作品、各地の伝説から能・浄瑠璃・歌舞伎といった芸能に至るまで、連綿と続いてきた東海道という地域・街道にまつわる文化的な積み重ねを再利用して各宿を紹介するものでした。本展では、《東海道五十三対》26 点と、その画題の源泉となった書籍などをあわせて展示いたします。 \n開催概要\n会期\n令和8年4月18日（土）～ 令和8年5月31日（日） \n開館時間\n9時～17時（入館は16時30分まで） \n会場\n豊橋市二川宿本陣資料館 企画展示室 \n休館日\n毎週月曜日（ただし5/4は開館し、5/7休館） \n入館料\n一般500円（400円）／小・中・高校生100円（80円）\n豊橋市内の70歳以上100円（80円)\n※①（   ）内は30名以上の団体・前売料金\n② 令和 8年4月1日より入館料を改定しました \n関連イベント【ギャラリートーク】\nとき\n4月25日(土)、5月23日(土)   各日14時～ \n解説\n担当学芸員 \n参加費\n無料（要入館料、事前申込み不要） \n \n▽詳しくはこちら・イベントチラシ \n\n			\n				\n			\n		\n\nクリックで拡大 \n \n  \n\n\n\n\n\n日時\n令和8年4月18日（土）～ 令和8年5月31日（日）\n9時～17時（入館は16時30分まで） \n\n\n\n場所\n\n豊橋市二川宿本陣資料館 企画展示室\n\n\n\n詳細\n豊橋市二川宿本陣資料館HP\n※本ページは2026.4.7時点の情報になります。\n\n\nお問い合わせ\n豊橋市二川宿本陣資料館\nTEL：0532-41-8580\n\n\n\n\n\n\nmap
URL:https://tasuki-inc.com/event/38236/
CATEGORIES:豊橋市
ATTACH;FMTTYPE=image/jpeg:https://tasuki-inc.com/wp-content/uploads/2026/04/ukiyoenotane.jpg
END:VEVENT
BEGIN:VEVENT
DTSTART;TZID=Asia/Tokyo:20260426T100000
DTEND;TZID=Asia/Tokyo:20260426T150000
DTSTAMP:20260424T162540
CREATED:20260424T053910Z
LAST-MODIFIED:20260424T053910Z
UID:38375-1777197600-1777215600@tasuki-inc.com
SUMMARY:ここあーとマルシェ 2026@桜ヶ丘公園
DESCRIPTION:フード、ドリンク、アート販売、ワークショップなど30店舗以上のお店が並びます。 \nアートパフォーマンスライブは3カ所同時開催！参加できるライブアートもあります。 \n26日まで、桜ヶ丘ミュージアムでは「青」をテーマにしたアート展を開催中。 \nパワーアップした「ここあーと」をぜひお楽しみください。 \n \n▽詳しくはこちら・イベントチラシ \n\n			\n				\n			\n			\n				\n			\n			\n				\n			\n		\n\nクリックで拡大 \n  \n\n\n\n\n\n主催\nインクルーシブ豊川文化祭実行委員会\n\n\n\n後援\n豊川市・豊川市教育委員会・豊川市社会福祉協議会・豊川市観光協会\n\n\n\n日時\n2026年4月26日(日)\n10:00〜15:00\n\n\n\n場所\n\nマルシェ：桜ヶ丘公園\nアート展：桜ヶ丘ミュージアム\n\n\n\n詳細\nInstagram\n※本ページは2026.4.22時点の情報になります。\n\n\n\n\n\nmap
URL:https://tasuki-inc.com/event/38375/
CATEGORIES:豊川市
ATTACH;FMTTYPE=image/jpeg:https://tasuki-inc.com/wp-content/uploads/2026/04/kokoart2026.jpg
END:VEVENT
END:VCALENDAR